BEGIN:VCALENDAR
VERSION:2.0
PRODID:-//pretix//pretix.eu//
BEGIN:VTIMEZONE
TZID:Europe/Berlin
BEGIN:STANDARD
DTSTART:20001029T040000
RRULE:FREQ=YEARLY;BYDAY=-1SU;BYMONTH=10
TZNAME:CET
TZOFFSETFROM:+0200
TZOFFSETTO:+0100
END:STANDARD
BEGIN:DAYLIGHT
DTSTART:20000326T030000
RRULE:FREQ=YEARLY;BYDAY=-1SU;BYMONTH=3
TZNAME:CEST
TZOFFSETFROM:+0100
TZOFFSETTO:+0200
END:DAYLIGHT
END:VTIMEZONE
BEGIN:VEVENT
UID:pretix-duisburg-ducks-ho-herren1-4707517@duisburg-ducks.vereinsticket.d
 e
DTSTART;TZID=Europe/Berlin:20251018T180000
DTEND;TZID=Europe/Berlin:20251018T203000
DESCRIPTION:Tickets: https://duisburg-ducks.vereinsticket.de/ho-herren1/470
 7517/\nEinlass: 18.10.2025 17:00\nVeranstalter: Duisburg Ducks
DTSTAMP:20260422T032748Z
LOCATION:Sporthalle Duisburg-Süd\, Spielfeld\, Mündelheimer Straße 129\,
  47259 Duisburg
SUMMARY:Duisburg Ducks I - Crash Eagles Kaarst I
END:VEVENT
END:VCALENDAR
