BEGIN:VCALENDAR
VERSION:2.0
PRODID:-//pretix//pretix.eu//
BEGIN:VTIMEZONE
TZID:Europe/Berlin
BEGIN:STANDARD
DTSTART:20001029T040000
RRULE:FREQ=YEARLY;BYDAY=-1SU;BYMONTH=10
TZNAME:CET
TZOFFSETFROM:+0200
TZOFFSETTO:+0100
END:STANDARD
BEGIN:DAYLIGHT
DTSTART:20000326T030000
RRULE:FREQ=YEARLY;BYDAY=-1SU;BYMONTH=3
TZNAME:CEST
TZOFFSETFROM:+0100
TZOFFSETTO:+0200
END:DAYLIGHT
END:VTIMEZONE
BEGIN:VEVENT
UID:pretix-duisburg-ducks-ho-nachwuchs-4662207@duisburg-ducks.vereinsticket
 .de
DTSTART;TZID=Europe/Berlin:20251109T120000
DTEND;TZID=Europe/Berlin:20251109T124500
DESCRIPTION:Tickets: https://duisburg-ducks.vereinsticket.de/ho-nachwuchs/4
 662207/\nVeranstalter: Duisburg Ducks
DTSTAMP:20260422T013518Z
LOCATION:Sporthalle Duisburg-Süd\, Mündelheimer Straße 129\, 47259 Duisb
 urg
SUMMARY:Hockeyschule
END:VEVENT
END:VCALENDAR
